BEGIN:VCALENDAR
VERSION:2.0
PRODID:-//Romance Junkies - ECPv6.0.12//NONSGML v1.0//EN
CALSCALE:GREGORIAN
METHOD:PUBLISH
X-ORIGINAL-URL:https://romancejunkies.com
X-WR-CALDESC:Events for Romance Junkies
REFRESH-INTERVAL;VALUE=DURATION:PT1H
X-Robots-Tag:noindex
X-PUBLISHED-TTL:PT1H
BEGIN:VTIMEZONE
TZID:America/Denver
BEGIN:DAYLIGHT
TZOFFSETFROM:-0700
TZOFFSETTO:-0600
TZNAME:MDT
DTSTART:20210314T090000
END:DAYLIGHT
BEGIN:STANDARD
TZOFFSETFROM:-0600
TZOFFSETTO:-0700
TZNAME:MST
DTSTART:20211107T080000
END:STANDARD
END:VTIMEZONE
BEGIN:VEVENT
DTSTART;VALUE=DATE:20210610
DTEND;VALUE=DATE:20210611
DTSTAMP:20260422T165620
CREATED:20210606T232606Z
LAST-MODIFIED:20210606T232606Z
UID:436626-1623283200-1623369599@romancejunkies.com
SUMMARY:Larissa Vine
DESCRIPTION:The Ghost Hunter and Her Guy by Larissa Vine
URL:https://romancejunkies.com/event/larissa-vine/
END:VEVENT
END:VCALENDAR