BEGIN:VCALENDAR
VERSION:2.0
PRODID:-//Romance Junkies - ECPv6.0.12//NONSGML v1.0//EN
CALSCALE:GREGORIAN
METHOD:PUBLISH
X-WR-CALNAME:Romance Junkies
X-ORIGINAL-URL:https://romancejunkies.com
X-WR-CALDESC:Events for Romance Junkies
REFRESH-INTERVAL;VALUE=DURATION:PT1H
X-Robots-Tag:noindex
X-PUBLISHED-TTL:PT1H
BEGIN:VTIMEZONE
TZID:America/Denver
BEGIN:DAYLIGHT
TZOFFSETFROM:-0700
TZOFFSETTO:-0600
TZNAME:MDT
DTSTART:20190310T090000
END:DAYLIGHT
BEGIN:STANDARD
TZOFFSETFROM:-0600
TZOFFSETTO:-0700
TZNAME:MST
DTSTART:20191103T080000
END:STANDARD
END:VTIMEZONE
BEGIN:VEVENT
DTSTART;VALUE=DATE:20190611
DTEND;VALUE=DATE:20190612
DTSTAMP:20260424T204928
CREATED:20190509T075950Z
LAST-MODIFIED:20190509T075950Z
UID:257763-1560211200-1560297599@romancejunkies.com
SUMMARY:Natasha Anders
DESCRIPTION:More Than Anything by Natasha Anders
URL:https://romancejunkies.com/event/natasha-anders/
END:VEVENT
BEGIN:VEVENT
DTSTART;VALUE=DATE:20190613
DTEND;VALUE=DATE:20190614
DTSTAMP:20260424T204928
CREATED:20190509T080100Z
LAST-MODIFIED:20190509T080100Z
UID:257767-1560384000-1560470399@romancejunkies.com
SUMMARY:Sariah Wilson
DESCRIPTION:The Friend Zone by Sariah Wilson
URL:https://romancejunkies.com/event/sariah-wilson/
END:VEVENT
BEGIN:VEVENT
DTSTART;VALUE=DATE:20190617
DTEND;VALUE=DATE:20190618
DTSTAMP:20260424T204928
CREATED:20190509T080327Z
LAST-MODIFIED:20190509T080348Z
UID:257771-1560729600-1560815999@romancejunkies.com
SUMMARY:Maxym M. Martineau
DESCRIPTION:Kingdom of Exiles by Maxym M. Martineau
URL:https://romancejunkies.com/event/maxym-m-martineau/
END:VEVENT
BEGIN:VEVENT
DTSTART;VALUE=DATE:20190620
DTEND;VALUE=DATE:20190621
DTSTAMP:20260424T204928
CREATED:20190509T080414Z
LAST-MODIFIED:20190509T080414Z
UID:257776-1560988800-1561075199@romancejunkies.com
SUMMARY:Sharon Sala
DESCRIPTION:A Rainbow Above Us by Sharon Sala
URL:https://romancejunkies.com/event/sharon-sala-6/
END:VEVENT
BEGIN:VEVENT
DTSTART;VALUE=DATE:20190622
DTEND;VALUE=DATE:20190623
DTSTAMP:20260424T204928
CREATED:20190523T214636Z
LAST-MODIFIED:20190620T181506Z
UID:260679-1561161600-1561247999@romancejunkies.com
SUMMARY:Satisfaction Delivered
DESCRIPTION:Triggerman Inc. series conclusion by Marie Harte
URL:https://romancejunkies.com/event/satisfaction-delivered/
END:VEVENT
BEGIN:VEVENT
DTSTART;VALUE=DATE:20190624
DTEND;VALUE=DATE:20190625
DTSTAMP:20260424T204928
CREATED:20190509T080517Z
LAST-MODIFIED:20190509T080543Z
UID:257779-1561334400-1561420799@romancejunkies.com
SUMMARY:Cindy Dees
DESCRIPTION:Beyond the Limit by Cindy Dees
URL:https://romancejunkies.com/event/cindy-dees/
END:VEVENT
BEGIN:VEVENT
DTSTART;VALUE=DATE:20190625
DTEND;VALUE=DATE:20190626
DTSTAMP:20260424T204928
CREATED:20190509T080611Z
LAST-MODIFIED:20190509T080611Z
UID:257784-1561420800-1561507199@romancejunkies.com
SUMMARY:Kait Ballenger
DESCRIPTION:Cowboy in Wolf’s Clothing by Kait Ballenger
URL:https://romancejunkies.com/event/kait-ballenger/
END:VEVENT
END:VCALENDAR