BEGIN:VCALENDAR
VERSION:2.0
PRODID:-//Romance Junkies - ECPv6.0.12//NONSGML v1.0//EN
CALSCALE:GREGORIAN
METHOD:PUBLISH
X-WR-CALNAME:Romance Junkies
X-ORIGINAL-URL:https://romancejunkies.com
X-WR-CALDESC:Events for Romance Junkies
REFRESH-INTERVAL;VALUE=DURATION:PT1H
X-Robots-Tag:noindex
X-PUBLISHED-TTL:PT1H
BEGIN:VTIMEZONE
TZID:America/Denver
BEGIN:DAYLIGHT
TZOFFSETFROM:-0700
TZOFFSETTO:-0600
TZNAME:MDT
DTSTART:20190310T090000
END:DAYLIGHT
BEGIN:STANDARD
TZOFFSETFROM:-0600
TZOFFSETTO:-0700
TZNAME:MST
DTSTART:20191103T080000
END:STANDARD
END:VTIMEZONE
BEGIN:VEVENT
DTSTART;VALUE=DATE:20190806
DTEND;VALUE=DATE:20190807
DTSTAMP:20260424T154315
CREATED:20190716T015647Z
LAST-MODIFIED:20190716T015647Z
UID:268524-1565049600-1565135999@romancejunkies.com
SUMMARY:Karina Halle
DESCRIPTION:Discretion by Karina Halle 
URL:https://romancejunkies.com/event/karina-halle/
END:VEVENT
BEGIN:VEVENT
DTSTART;VALUE=DATE:20190813
DTEND;VALUE=DATE:20190814
DTSTAMP:20260424T154315
CREATED:20190716T015727Z
LAST-MODIFIED:20190716T015727Z
UID:268528-1565654400-1565740799@romancejunkies.com
SUMMARY:Melissa Foster
DESCRIPTION:Call Her Mine by Melissa Foster
URL:https://romancejunkies.com/event/melissa-foster/
END:VEVENT
BEGIN:VEVENT
DTSTART;VALUE=DATE:20190819
DTEND;VALUE=DATE:20190820
DTSTAMP:20260424T154315
CREATED:20190509T075611Z
LAST-MODIFIED:20190819T075240Z
UID:257751-1566172800-1566259199@romancejunkies.com
SUMMARY:Kat Martin
DESCRIPTION:
URL:https://romancejunkies.com/event/kat-martin-14/
END:VEVENT
BEGIN:VEVENT
DTSTART;VALUE=DATE:20190820
DTEND;VALUE=DATE:20190821
DTSTAMP:20260424T154315
CREATED:20190716T015820Z
LAST-MODIFIED:20190812T220355Z
UID:268534-1566259200-1566345599@romancejunkies.com
SUMMARY:Carolyn Brown
DESCRIPTION:The Empty Nesters by Carolyn Brown 
URL:https://romancejunkies.com/event/caroline-brown/
END:VEVENT
BEGIN:VEVENT
DTSTART;VALUE=DATE:20190821
DTEND;VALUE=DATE:20190822
DTSTAMP:20260424T154315
CREATED:20190709T183949Z
LAST-MODIFIED:20190709T184009Z
UID:267566-1566345600-1566431999@romancejunkies.com
SUMMARY:Juno Rushdan
DESCRIPTION:NOTHING TO FEAR by Juno Rushdan
URL:https://romancejunkies.com/event/juno-rushdan-2/
END:VEVENT
BEGIN:VEVENT
DTSTART;VALUE=DATE:20190822
DTEND;VALUE=DATE:20190823
DTSTAMP:20260424T154315
CREATED:20190709T183913Z
LAST-MODIFIED:20190819T073118Z
UID:267562-1566432000-1566518399@romancejunkies.com
SUMMARY:Teri Anne Stanley
DESCRIPTION:BIG CHANCE COWBOY by Teri Anne Stanley
URL:https://romancejunkies.com/event/teri-anne-stanley-2/
END:VEVENT
BEGIN:VEVENT
DTSTART;VALUE=DATE:20190823
DTEND;VALUE=DATE:20190824
DTSTAMP:20260424T154315
CREATED:20190709T184041Z
LAST-MODIFIED:20190709T184041Z
UID:267571-1566518400-1566604799@romancejunkies.com
SUMMARY:Lynnette Austin
DESCRIPTION:I’VE GOT YOU\, BABE by Lynnette Austin
URL:https://romancejunkies.com/event/lynnette-austin-3/
END:VEVENT
BEGIN:VEVENT
DTSTART;VALUE=DATE:20190827
DTEND;VALUE=DATE:20190828
DTSTAMP:20260424T154315
CREATED:20190709T184130Z
LAST-MODIFIED:20190709T184130Z
UID:267575-1566864000-1566950399@romancejunkies.com
SUMMARY:Marie Harte
DESCRIPTION:Handle with Care by Marie Harte
URL:https://romancejunkies.com/event/marie-harte-14/
END:VEVENT
BEGIN:VEVENT
DTSTART;VALUE=DATE:20190828
DTEND;VALUE=DATE:20190829
DTSTAMP:20260424T154315
CREATED:20190716T015903Z
LAST-MODIFIED:20190716T015903Z
UID:268538-1566950400-1567036799@romancejunkies.com
SUMMARY:Aurora Rose Reynolds
DESCRIPTION:Catching Him by Aurora Rose Reynolds 
URL:https://romancejunkies.com/event/aurora-rose-reynolds/
END:VEVENT
BEGIN:VEVENT
DTSTART;VALUE=DATE:20190829
DTEND;VALUE=DATE:20190830
DTSTAMP:20260424T154315
CREATED:20190709T184222Z
LAST-MODIFIED:20190709T184807Z
UID:267579-1567036800-1567123199@romancejunkies.com
SUMMARY:Jane Ashford
DESCRIPTION:HOW TO CROSS A MARQUESS by Jane Ashford
URL:https://romancejunkies.com/event/jane-ashford-7/
END:VEVENT
END:VCALENDAR