BEGIN:VCALENDAR
VERSION:2.0
PRODID:-//Romance Junkies - ECPv6.0.12//NONSGML v1.0//EN
CALSCALE:GREGORIAN
METHOD:PUBLISH
X-WR-CALNAME:Romance Junkies
X-ORIGINAL-URL:https://romancejunkies.com
X-WR-CALDESC:Events for Romance Junkies
REFRESH-INTERVAL;VALUE=DURATION:PT1H
X-Robots-Tag:noindex
X-PUBLISHED-TTL:PT1H
BEGIN:VTIMEZONE
TZID:America/Denver
BEGIN:DAYLIGHT
TZOFFSETFROM:-0700
TZOFFSETTO:-0600
TZNAME:MDT
DTSTART:20190310T090000
END:DAYLIGHT
BEGIN:STANDARD
TZOFFSETFROM:-0600
TZOFFSETTO:-0700
TZNAME:MST
DTSTART:20191103T080000
END:STANDARD
END:VTIMEZONE
BEGIN:VEVENT
DTSTART;VALUE=DATE:20191002
DTEND;VALUE=DATE:20191003
DTSTAMP:20260424T130450
CREATED:20190823T141035Z
LAST-MODIFIED:20190929T215754Z
UID:273361-1569974400-1570060799@romancejunkies.com
SUMMARY:Catherine Bybee
DESCRIPTION:Say it Again by Catherine Bybee
URL:https://romancejunkies.com/event/catherine-bybee-5/
END:VEVENT
BEGIN:VEVENT
DTSTART;VALUE=DATE:20191003
DTEND;VALUE=DATE:20191004
DTSTAMP:20260424T130450
CREATED:20190929T234342Z
LAST-MODIFIED:20190929T234342Z
UID:279718-1570060800-1570147199@romancejunkies.com
SUMMARY:Interview with May McGoldrick
DESCRIPTION:
URL:https://romancejunkies.com/event/interview-with-may-mcgoldrick/
END:VEVENT
BEGIN:VEVENT
DTSTART;VALUE=DATE:20191004
DTEND;VALUE=DATE:20191005
DTSTAMP:20260424T130450
CREATED:20190930T005157Z
LAST-MODIFIED:20190930T005157Z
UID:279745-1570147200-1570233599@romancejunkies.com
SUMMARY:Friday Giveaway!
DESCRIPTION:Friday Giveaway
URL:https://romancejunkies.com/event/friday-giveaway/
END:VEVENT
BEGIN:VEVENT
DTSTART;VALUE=DATE:20191008
DTEND;VALUE=DATE:20191009
DTSTAMP:20260424T130450
CREATED:20190918T225925Z
LAST-MODIFIED:20190918T225925Z
UID:277275-1570492800-1570579199@romancejunkies.com
SUMMARY:Mary Burton
DESCRIPTION:I See You
URL:https://romancejunkies.com/event/mary-burton-4/
END:VEVENT
BEGIN:VEVENT
DTSTART;VALUE=DATE:20191014
DTEND;VALUE=DATE:20191015
DTSTAMP:20260424T130450
CREATED:20190918T001800Z
LAST-MODIFIED:20190918T001800Z
UID:277137-1571011200-1571097599@romancejunkies.com
SUMMARY:Faith Hunter: Shattered Bonds
DESCRIPTION:Shattered Bonds tour
URL:https://romancejunkies.com/event/faith-hunter-shattered-bonds/
END:VEVENT
BEGIN:VEVENT
DTSTART;VALUE=DATE:20191015
DTEND;VALUE=DATE:20191016
DTSTAMP:20260424T130450
CREATED:20190918T225949Z
LAST-MODIFIED:20190918T225949Z
UID:277279-1571097600-1571183999@romancejunkies.com
SUMMARY:J.S. Scott
DESCRIPTION:Enamored
URL:https://romancejunkies.com/event/j-s-scott-2/
END:VEVENT
BEGIN:VEVENT
DTSTART;VALUE=DATE:20191016
DTEND;VALUE=DATE:20191017
DTSTAMP:20260424T130450
CREATED:20190918T221159Z
LAST-MODIFIED:20190918T221535Z
UID:277259-1571184000-1571270399@romancejunkies.com
SUMMARY:Nancy Lee Badger
DESCRIPTION:Rescuing Christmas
URL:https://romancejunkies.com/event/nancy-lee-badger-4/
END:VEVENT
BEGIN:VEVENT
DTSTART;VALUE=DATE:20191018
DTEND;VALUE=DATE:20191019
DTSTAMP:20260424T130450
CREATED:20190918T230028Z
LAST-MODIFIED:20190918T230028Z
UID:277283-1571356800-1571443199@romancejunkies.com
SUMMARY:Helena Hunting
DESCRIPTION:A Lie for a Lie
URL:https://romancejunkies.com/event/helena-hunting/
END:VEVENT
BEGIN:VEVENT
DTSTART;VALUE=DATE:20191021
DTEND;VALUE=DATE:20191022
DTSTAMP:20260424T130450
CREATED:20190823T141504Z
LAST-MODIFIED:20191022T222503Z
UID:273370-1571616000-1571702399@romancejunkies.com
SUMMARY:Carolyn Brown
DESCRIPTION:The Shop On Main Street & The Sisters Cafe by Carolyn Brown
URL:https://romancejunkies.com/event/carolyn-brown-10/
END:VEVENT
BEGIN:VEVENT
DTSTART;VALUE=DATE:20191028
DTEND;VALUE=DATE:20191029
DTSTAMP:20260424T130450
CREATED:20190823T141536Z
LAST-MODIFIED:20191027T065032Z
UID:273374-1572220800-1572307199@romancejunkies.com
SUMMARY:Kim Redford
DESCRIPTION:Cowboy Firefighter Christmas Kiss by Kim Redford
URL:https://romancejunkies.com/event/kim-redford-4/
END:VEVENT
BEGIN:VEVENT
DTSTART;VALUE=DATE:20191030
DTEND;VALUE=DATE:20191031
DTSTAMP:20260424T130450
CREATED:20190823T141618Z
LAST-MODIFIED:20190823T141720Z
UID:273378-1572393600-1572479999@romancejunkies.com
SUMMARY:Amy Sandas
DESCRIPTION:The Outlaw’s Heart by Amy Sandas
URL:https://romancejunkies.com/event/amy-sandas-5/
END:VEVENT
END:VCALENDAR