BEGIN:VCALENDAR
VERSION:2.0
PRODID:-//Romance Junkies - ECPv6.0.12//NONSGML v1.0//EN
CALSCALE:GREGORIAN
METHOD:PUBLISH
X-ORIGINAL-URL:https://romancejunkies.com
X-WR-CALDESC:Events for Romance Junkies
REFRESH-INTERVAL;VALUE=DURATION:PT1H
X-Robots-Tag:noindex
X-PUBLISHED-TTL:PT1H
BEGIN:VTIMEZONE
TZID:America/Denver
BEGIN:DAYLIGHT
TZOFFSETFROM:-0700
TZOFFSETTO:-0600
TZNAME:MDT
DTSTART:20190310T090000
END:DAYLIGHT
BEGIN:STANDARD
TZOFFSETFROM:-0600
TZOFFSETTO:-0700
TZNAME:MST
DTSTART:20191103T080000
END:STANDARD
END:VTIMEZONE
BEGIN:VEVENT
DTSTART;VALUE=DATE:20191101
DTEND;VALUE=DATE:20191102
DTSTAMP:20260424T091726
CREATED:20190930T005300Z
LAST-MODIFIED:20190930T005300Z
UID:279765-1572566400-1572652799@romancejunkies.com
SUMMARY:Friday Giveaway!
DESCRIPTION:
URL:https://romancejunkies.com/event/friday-giveaway-2/
END:VEVENT
BEGIN:VEVENT
DTSTART;VALUE=DATE:20191102
DTEND;VALUE=DATE:20191103
DTSTAMP:20260424T091726
CREATED:20190918T230417Z
LAST-MODIFIED:20191030T165616Z
UID:277287-1572652800-1572739199@romancejunkies.com
SUMMARY:Julia London
DESCRIPTION:THE DEVIL IN THE SADDLE
URL:https://romancejunkies.com/event/julia-london-3/
END:VEVENT
BEGIN:VEVENT
DTSTART;VALUE=DATE:20191104
DTEND;VALUE=DATE:20191105
DTSTAMP:20260424T091726
CREATED:20191025T012129Z
LAST-MODIFIED:20191025T012129Z
UID:287563-1572825600-1572911999@romancejunkies.com
SUMMARY:Desiree Holt
DESCRIPTION:
URL:https://romancejunkies.com/event/desiree-holt-2/
END:VEVENT
BEGIN:VEVENT
DTSTART;VALUE=DATE:20191106
DTEND;VALUE=DATE:20191107
DTSTAMP:20260424T091726
CREATED:20191014T154518Z
LAST-MODIFIED:20191014T154613Z
UID:284480-1572998400-1573084799@romancejunkies.com
SUMMARY:Kat Martin
DESCRIPTION:
URL:https://romancejunkies.com/event/kat-martin-16/
END:VEVENT
BEGIN:VEVENT
DTSTART;VALUE=DATE:20191109
DTEND;VALUE=DATE:20191110
DTSTAMP:20260424T091726
CREATED:20191015T184705Z
LAST-MODIFIED:20191107T221740Z
UID:284964-1573257600-1573343999@romancejunkies.com
SUMMARY:Vanessa North
DESCRIPTION:Hard Chrome
URL:https://romancejunkies.com/event/vanessa-north/
END:VEVENT
BEGIN:VEVENT
DTSTART;VALUE=DATE:20191112
DTEND;VALUE=DATE:20191113
DTSTAMP:20260424T091726
CREATED:20190918T230515Z
LAST-MODIFIED:20191106T170027Z
UID:277291-1573516800-1573603199@romancejunkies.com
SUMMARY:Lorelei James
DESCRIPTION:Spun Out by Lorelei James (11/5)
URL:https://romancejunkies.com/event/lorelei-james/
END:VEVENT
BEGIN:VEVENT
DTSTART;VALUE=DATE:20191115
DTEND;VALUE=DATE:20191116
DTSTAMP:20260424T091726
CREATED:20191015T184755Z
LAST-MODIFIED:20191015T184755Z
UID:284968-1573776000-1573862399@romancejunkies.com
SUMMARY:Erin McLellan
DESCRIPTION:Stocking Stuffers 
URL:https://romancejunkies.com/event/erin-mclellan/
END:VEVENT
BEGIN:VEVENT
DTSTART;VALUE=DATE:20191116
DTEND;VALUE=DATE:20191117
DTSTAMP:20260424T091726
CREATED:20191015T184834Z
LAST-MODIFIED:20191115T125141Z
UID:284972-1573862400-1573948799@romancejunkies.com
SUMMARY:J.R. Gray
DESCRIPTION:Unscripted
URL:https://romancejunkies.com/event/j-r-gray/
END:VEVENT
BEGIN:VEVENT
DTSTART;VALUE=DATE:20191119
DTEND;VALUE=DATE:20191120
DTSTAMP:20260424T091726
CREATED:20191015T184921Z
LAST-MODIFIED:20191015T184921Z
UID:284976-1574121600-1574207999@romancejunkies.com
SUMMARY:Melia Alexander
DESCRIPTION:Seduced by the Soldier
URL:https://romancejunkies.com/event/melia-alexander/
END:VEVENT
BEGIN:VEVENT
DTSTART;VALUE=DATE:20191121
DTEND;VALUE=DATE:20191122
DTSTAMP:20260424T091726
CREATED:20191115T125050Z
LAST-MODIFIED:20191115T125050Z
UID:293424-1574294400-1574380799@romancejunkies.com
SUMMARY:Kim Breyon
DESCRIPTION:Roxy’s Recovery by Kim Breyon
URL:https://romancejunkies.com/event/kim-breyon/
END:VEVENT
BEGIN:VEVENT
DTSTART;VALUE=DATE:20191122
DTEND;VALUE=DATE:20191123
DTSTAMP:20260424T091726
CREATED:20190918T231246Z
LAST-MODIFIED:20190918T231246Z
UID:277312-1574380800-1574467199@romancejunkies.com
SUMMARY:Diana Munoz Stewart
DESCRIPTION:The Cost of Honor by Diana Munoz Stewart
URL:https://romancejunkies.com/event/diana-munoz-stewart-2/
END:VEVENT
BEGIN:VEVENT
DTSTART;VALUE=DATE:20191123
DTEND;VALUE=DATE:20191124
DTSTAMP:20260424T091726
CREATED:20190918T231057Z
LAST-MODIFIED:20191119T091635Z
UID:277303-1574467200-1574553599@romancejunkies.com
SUMMARY:Jennie Marts
DESCRIPTION:Wish Upon a Cowboy by Jennie Marts
URL:https://romancejunkies.com/event/jennie-marts-4/
END:VEVENT
BEGIN:VEVENT
DTSTART;VALUE=DATE:20191124
DTEND;VALUE=DATE:20191125
DTSTAMP:20260424T091726
CREATED:20190918T231145Z
LAST-MODIFIED:20191121T165544Z
UID:277308-1574553600-1574639999@romancejunkies.com
SUMMARY:Paige Tyler
DESCRIPTION:Wolf Rebel by Paige Tyler
URL:https://romancejunkies.com/event/paige-tyler-7/
END:VEVENT
BEGIN:VEVENT
DTSTART;VALUE=DATE:20191126
DTEND;VALUE=DATE:20191127
DTSTAMP:20260424T091726
CREATED:20190918T231347Z
LAST-MODIFIED:20190918T231347Z
UID:277316-1574726400-1574812799@romancejunkies.com
SUMMARY:Ashlyn Chase
DESCRIPTION:The Goddess Gets Her Guy by Ashlyn Chase
URL:https://romancejunkies.com/event/ashlyn-chase-5/
END:VEVENT
BEGIN:VEVENT
DTSTART;VALUE=DATE:20191129
DTEND;VALUE=DATE:20191130
DTSTAMP:20260424T091726
CREATED:20190918T231416Z
LAST-MODIFIED:20190918T231416Z
UID:277320-1574985600-1575071999@romancejunkies.com
SUMMARY:Rosanne Bittner
DESCRIPTION:Ride the Lonesome High by Rosanne Bittner
URL:https://romancejunkies.com/event/rosanne-bittner-3/
END:VEVENT
BEGIN:VEVENT
DTSTART;VALUE=DATE:20191130
DTEND;VALUE=DATE:20191201
DTSTAMP:20260424T091726
CREATED:20191130T223131Z
LAST-MODIFIED:20191130T223139Z
UID:297130-1575072000-1575158399@romancejunkies.com
SUMMARY:Sierra Brave
DESCRIPTION:
URL:https://romancejunkies.com/event/sierra-brave-4/
END:VEVENT
END:VCALENDAR