BEGIN:VCALENDAR
VERSION:2.0
PRODID:-//Romance Junkies - ECPv6.0.12//NONSGML v1.0//EN
CALSCALE:GREGORIAN
METHOD:PUBLISH
X-ORIGINAL-URL:https://romancejunkies.com
X-WR-CALDESC:Events for Romance Junkies
REFRESH-INTERVAL;VALUE=DURATION:PT1H
X-Robots-Tag:noindex
X-PUBLISHED-TTL:PT1H
BEGIN:VTIMEZONE
TZID:America/Denver
BEGIN:DAYLIGHT
TZOFFSETFROM:-0700
TZOFFSETTO:-0600
TZNAME:MDT
DTSTART:20200308T090000
END:DAYLIGHT
BEGIN:STANDARD
TZOFFSETFROM:-0600
TZOFFSETTO:-0700
TZNAME:MST
DTSTART:20201101T080000
END:STANDARD
END:VTIMEZONE
BEGIN:VEVENT
DTSTART;VALUE=DATE:20200102
DTEND;VALUE=DATE:20200103
DTSTAMP:20260424T031106
CREATED:20191115T124634Z
LAST-MODIFIED:20191115T124656Z
UID:293415-1577923200-1578009599@romancejunkies.com
SUMMARY:Asa Maria Bradley
DESCRIPTION:Loki Acsending by Asa Maria Bradley
URL:https://romancejunkies.com/event/asa-maria-bradley/
END:VEVENT
BEGIN:VEVENT
DTSTART;VALUE=DATE:20200103
DTEND;VALUE=DATE:20200104
DTSTAMP:20260424T031106
CREATED:20191115T124719Z
LAST-MODIFIED:20191115T124719Z
UID:293420-1578009600-1578095999@romancejunkies.com
SUMMARY:Anna Schmidt
DESCRIPTION:Pathfinder by Anna Schmidt
URL:https://romancejunkies.com/event/anna-schmidt-5/
END:VEVENT
BEGIN:VEVENT
DTSTART;VALUE=DATE:20200106
DTEND;VALUE=DATE:20200107
DTSTAMP:20260424T031106
CREATED:20191124T000917Z
LAST-MODIFIED:20191124T001024Z
UID:295828-1578268800-1578355199@romancejunkies.com
SUMMARY:Lean on Me by Pat Simmons
DESCRIPTION:Lean on Me
URL:https://romancejunkies.com/event/lean-on-me-by-pat-simmons/
END:VEVENT
BEGIN:VEVENT
DTSTART;VALUE=DATE:20200115
DTEND;VALUE=DATE:20200116
DTSTAMP:20260424T031106
CREATED:20191129T222856Z
LAST-MODIFIED:20191129T223948Z
UID:297024-1579046400-1579132799@romancejunkies.com
SUMMARY:J. Arlene Culiner
DESCRIPTION:
URL:https://romancejunkies.com/event/j-arlene-culiner/
END:VEVENT
BEGIN:VEVENT
DTSTART;VALUE=DATE:20200123
DTEND;VALUE=DATE:20200124
DTSTAMP:20260424T031106
CREATED:20191124T001133Z
LAST-MODIFIED:20200123T171144Z
UID:295833-1579737600-1579823999@romancejunkies.com
SUMMARY:Adriana Anders
DESCRIPTION:White Out
URL:https://romancejunkies.com/event/adriana-anders-5/
END:VEVENT
BEGIN:VEVENT
DTSTART;VALUE=DATE:20200124
DTEND;VALUE=DATE:20200125
DTSTAMP:20260424T031106
CREATED:20191124T001236Z
LAST-MODIFIED:20191124T001236Z
UID:295841-1579824000-1579910399@romancejunkies.com
SUMMARY:Teri Anne Stanley
DESCRIPTION:Lucky Chance Cowboy by Teri Anne Stanley
URL:https://romancejunkies.com/event/teri-anne-stanley-3/
END:VEVENT
BEGIN:VEVENT
DTSTART;VALUE=DATE:20200127
DTEND;VALUE=DATE:20200128
DTSTAMP:20260424T031106
CREATED:20191124T001316Z
LAST-MODIFIED:20191124T001336Z
UID:295845-1580083200-1580169599@romancejunkies.com
SUMMARY:Linda Broday
DESCRIPTION:The Mail Order Bride’s Secret by Linda Broday
URL:https://romancejunkies.com/event/linda-broday-8/
END:VEVENT
BEGIN:VEVENT
DTSTART;VALUE=DATE:20200128
DTEND;VALUE=DATE:20200129
DTSTAMP:20260424T031106
CREATED:20191124T001159Z
LAST-MODIFIED:20200123T171210Z
UID:295837-1580169600-1580255999@romancejunkies.com
SUMMARY:Mara Wells
DESCRIPTION:Cold Nose\, Warm Heart by Mara Wells
URL:https://romancejunkies.com/event/mara-wells/
END:VEVENT
BEGIN:VEVENT
DTSTART;VALUE=DATE:20200130
DTEND;VALUE=DATE:20200131
DTSTAMP:20260424T031106
CREATED:20191124T001359Z
LAST-MODIFIED:20200130T164327Z
UID:295850-1580342400-1580428799@romancejunkies.com
SUMMARY:Kait Ballenger
DESCRIPTION:Wicked Cowboy Wolf by Kait Ballenger
URL:https://romancejunkies.com/event/kait-ballenger-2/
END:VEVENT
END:VCALENDAR