BEGIN:VCALENDAR
VERSION:2.0
PRODID:-//Romance Junkies - ECPv6.0.12//NONSGML v1.0//EN
CALSCALE:GREGORIAN
METHOD:PUBLISH
X-WR-CALNAME:Romance Junkies
X-ORIGINAL-URL:https://romancejunkies.com
X-WR-CALDESC:Events for Romance Junkies
REFRESH-INTERVAL;VALUE=DURATION:PT1H
X-Robots-Tag:noindex
X-PUBLISHED-TTL:PT1H
BEGIN:VTIMEZONE
TZID:America/Denver
BEGIN:DAYLIGHT
TZOFFSETFROM:-0700
TZOFFSETTO:-0600
TZNAME:MDT
DTSTART:20200308T090000
END:DAYLIGHT
BEGIN:STANDARD
TZOFFSETFROM:-0600
TZOFFSETTO:-0700
TZNAME:MST
DTSTART:20201101T080000
END:STANDARD
END:VTIMEZONE
BEGIN:VEVENT
DTSTART;VALUE=DATE:20200401
DTEND;VALUE=DATE:20200402
DTSTAMP:20260423T182944
CREATED:20200307T012344Z
LAST-MODIFIED:20200331T200327Z
UID:311398-1585699200-1585785599@romancejunkies.com
SUMMARY:Evie Bennet
DESCRIPTION:
URL:https://romancejunkies.com/event/evie-bennet/
END:VEVENT
BEGIN:VEVENT
DTSTART;VALUE=DATE:20200402
DTEND;VALUE=DATE:20200403
DTSTAMP:20260423T182944
CREATED:20200307T013315Z
LAST-MODIFIED:20200331T223534Z
UID:311411-1585785600-1585871999@romancejunkies.com
SUMMARY:Bronwen Evans
DESCRIPTION:
URL:https://romancejunkies.com/event/bronwen-evans/
END:VEVENT
BEGIN:VEVENT
DTSTART;VALUE=DATE:20200403
DTEND;VALUE=DATE:20200404
DTSTAMP:20260423T182944
CREATED:20200325T100804Z
LAST-MODIFIED:20200331T200051Z
UID:315357-1585872000-1585958399@romancejunkies.com
SUMMARY:Alice Archer
DESCRIPTION:THE INFINITE ONION by Alice Archer
URL:https://romancejunkies.com/event/alice-archer/
END:VEVENT
BEGIN:VEVENT
DTSTART;VALUE=DATE:20200407
DTEND;VALUE=DATE:20200408
DTSTAMP:20260423T182944
CREATED:20200312T180818Z
LAST-MODIFIED:20200312T180915Z
UID:312756-1586217600-1586303999@romancejunkies.com
SUMMARY:Megan Walker
DESCRIPTION:Lakeshire Park
URL:https://romancejunkies.com/event/megan-walker/
END:VEVENT
BEGIN:VEVENT
DTSTART;VALUE=DATE:20200408
DTEND;VALUE=DATE:20200409
DTSTAMP:20260423T182944
CREATED:20200325T100853Z
LAST-MODIFIED:20200406T180816Z
UID:315361-1586304000-1586390399@romancejunkies.com
SUMMARY:Hailey Turner
DESCRIPTION:A VIGIL IN THE MOURNING by Hailey Turner.
URL:https://romancejunkies.com/event/hailey-turner-2/
END:VEVENT
BEGIN:VEVENT
DTSTART;VALUE=DATE:20200416
DTEND;VALUE=DATE:20200417
DTSTAMP:20260423T182944
CREATED:20200325T101010Z
LAST-MODIFIED:20200325T101452Z
UID:315366-1586995200-1587081599@romancejunkies.com
SUMMARY:Cecilia London
DESCRIPTION:SONGBIRD by Cecilia London
URL:https://romancejunkies.com/event/cecilia-london/
END:VEVENT
BEGIN:VEVENT
DTSTART;VALUE=DATE:20200420
DTEND;VALUE=DATE:20200421
DTSTAMP:20260423T182944
CREATED:20200307T013808Z
LAST-MODIFIED:20200307T013808Z
UID:311416-1587340800-1587427199@romancejunkies.com
SUMMARY:Amanda Bouchet
DESCRIPTION:Starbreaker
URL:https://romancejunkies.com/event/amanda-bouchet-4/
END:VEVENT
BEGIN:VEVENT
DTSTART;VALUE=DATE:20200423
DTEND;VALUE=DATE:20200424
DTSTAMP:20260423T182944
CREATED:20200225T182225Z
LAST-MODIFIED:20200423T095115Z
UID:309608-1587600000-1587686399@romancejunkies.com
SUMMARY:Kat Martin
DESCRIPTION:The Deception
URL:https://romancejunkies.com/event/kat-martin-18/
END:VEVENT
BEGIN:VEVENT
DTSTART;VALUE=DATE:20200425
DTEND;VALUE=DATE:20200426
DTSTAMP:20260423T182944
CREATED:20200307T013841Z
LAST-MODIFIED:20200424T202420Z
UID:311421-1587772800-1587859199@romancejunkies.com
SUMMARY:Debbie Burns
DESCRIPTION:Head Over Paws
URL:https://romancejunkies.com/event/debbie-burns-4/
END:VEVENT
BEGIN:VEVENT
DTSTART;VALUE=DATE:20200427
DTEND;VALUE=DATE:20200428
DTSTAMP:20260423T182944
CREATED:20200307T013911Z
LAST-MODIFIED:20200307T014829Z
UID:311425-1587945600-1588031999@romancejunkies.com
SUMMARY:Jane Ashford
DESCRIPTION:A Duke Too Far
URL:https://romancejunkies.com/event/jane-ashford-8/
END:VEVENT
BEGIN:VEVENT
DTSTART;VALUE=DATE:20200428
DTEND;VALUE=DATE:20200429
DTSTAMP:20260423T182944
CREATED:20200401T001106Z
LAST-MODIFIED:20200401T001205Z
UID:316920-1588032000-1588118399@romancejunkies.com
SUMMARY:Sable Hunter
DESCRIPTION:
URL:https://romancejunkies.com/event/sable-hunter/
END:VEVENT
END:VCALENDAR