BEGIN:VCALENDAR
VERSION:2.0
PRODID:-//Romance Junkies - ECPv6.0.12//NONSGML v1.0//EN
CALSCALE:GREGORIAN
METHOD:PUBLISH
X-ORIGINAL-URL:https://romancejunkies.com
X-WR-CALDESC:Events for Romance Junkies
REFRESH-INTERVAL;VALUE=DURATION:PT1H
X-Robots-Tag:noindex
X-PUBLISHED-TTL:PT1H
BEGIN:VTIMEZONE
TZID:America/Denver
BEGIN:DAYLIGHT
TZOFFSETFROM:-0700
TZOFFSETTO:-0600
TZNAME:MDT
DTSTART:20200308T090000
END:DAYLIGHT
BEGIN:STANDARD
TZOFFSETFROM:-0600
TZOFFSETTO:-0700
TZNAME:MST
DTSTART:20201101T080000
END:STANDARD
END:VTIMEZONE
BEGIN:VEVENT
DTSTART;VALUE=DATE:20200501
DTEND;VALUE=DATE:20200502
DTSTAMP:20260423T172426
CREATED:20200307T012202Z
LAST-MODIFIED:20200307T012202Z
UID:311394-1588291200-1588377599@romancejunkies.com
SUMMARY:Regina Kyle
DESCRIPTION:
URL:https://romancejunkies.com/event/regina-kyle-2/
END:VEVENT
BEGIN:VEVENT
DTSTART;VALUE=DATE:20200505
DTEND;VALUE=DATE:20200506
DTSTAMP:20260423T172426
CREATED:20200331T225300Z
LAST-MODIFIED:20200331T225300Z
UID:316848-1588636800-1588723199@romancejunkies.com
SUMMARY:Close Up Review
DESCRIPTION:Review of CLOSE UP by Amanda Quick
URL:https://romancejunkies.com/event/close-up-review/
END:VEVENT
BEGIN:VEVENT
DTSTART;VALUE=DATE:20200507
DTEND;VALUE=DATE:20200508
DTSTAMP:20260423T172426
CREATED:20200331T225338Z
LAST-MODIFIED:20200331T225414Z
UID:316852-1588809600-1588895999@romancejunkies.com
SUMMARY:Christine Feehan
DESCRIPTION:Shadow Flight
URL:https://romancejunkies.com/event/christine-feehan-2/
END:VEVENT
BEGIN:VEVENT
DTSTART;VALUE=DATE:20200511
DTEND;VALUE=DATE:20200512
DTSTAMP:20260423T172426
CREATED:20200331T225526Z
LAST-MODIFIED:20200331T225526Z
UID:316858-1589155200-1589241599@romancejunkies.com
SUMMARY:Jo Goodman
DESCRIPTION:Stages of the Heart
URL:https://romancejunkies.com/event/jo-goodman/
END:VEVENT
BEGIN:VEVENT
DTSTART;VALUE=DATE:20200513
DTEND;VALUE=DATE:20200514
DTSTAMP:20260423T172426
CREATED:20200513T071717Z
LAST-MODIFIED:20200513T071830Z
UID:327429-1589328000-1589414399@romancejunkies.com
SUMMARY:Evie Bennet
DESCRIPTION:Live for Love
URL:https://romancejunkies.com/event/evie-bennet-2/
END:VEVENT
BEGIN:VEVENT
DTSTART;VALUE=DATE:20200514
DTEND;VALUE=DATE:20200515
DTSTAMP:20260423T172426
CREATED:20200513T072059Z
LAST-MODIFIED:20200513T072059Z
UID:327434-1589414400-1589500799@romancejunkies.com
SUMMARY:Nancy Lee Badger
DESCRIPTION:Guest Post
URL:https://romancejunkies.com/event/nancy-lee-badger-5/
END:VEVENT
BEGIN:VEVENT
DTSTART;VALUE=DATE:20200520
DTEND;VALUE=DATE:20200521
DTSTAMP:20260423T172426
CREATED:20200513T073450Z
LAST-MODIFIED:20200513T073450Z
UID:327459-1589932800-1590019199@romancejunkies.com
SUMMARY:Night of the Billionaire
DESCRIPTION:Night of the Billionaire Wolf by Terry Spear
URL:https://romancejunkies.com/event/night-of-the-billionaire/
END:VEVENT
BEGIN:VEVENT
DTSTART;VALUE=DATE:20200521
DTEND;VALUE=DATE:20200522
DTSTAMP:20260423T172426
CREATED:20200420T070954Z
LAST-MODIFIED:20200520T022957Z
UID:320736-1590019200-1590105599@romancejunkies.com
SUMMARY:Josi Kilpack
DESCRIPTION:
URL:https://romancejunkies.com/event/josi-kilpack/
END:VEVENT
BEGIN:VEVENT
DTSTART;VALUE=DATE:20200522
DTEND;VALUE=DATE:20200523
DTSTAMP:20260423T172426
CREATED:20200513T073533Z
LAST-MODIFIED:20200513T073533Z
UID:327463-1590105600-1590191999@romancejunkies.com
SUMMARY:Outlaw's Daughter
DESCRIPTION:Outlaw’s Daughter by Margaret Brownley
URL:https://romancejunkies.com/event/outlaws-daughter/
END:VEVENT
BEGIN:VEVENT
DTSTART;VALUE=DATE:20200525
DTEND;VALUE=DATE:20200526
DTSTAMP:20260423T172426
CREATED:20200513T073611Z
LAST-MODIFIED:20200513T073611Z
UID:327467-1590364800-1590451199@romancejunkies.com
SUMMARY:Wolf Under Fire
DESCRIPTION:Wolf Under Fire by Paige Tyler
URL:https://romancejunkies.com/event/wolf-under-fire/
END:VEVENT
BEGIN:VEVENT
DTSTART;VALUE=DATE:20200527
DTEND;VALUE=DATE:20200528
DTSTAMP:20260423T172426
CREATED:20200513T073642Z
LAST-MODIFIED:20200513T073642Z
UID:327471-1590537600-1590623999@romancejunkies.com
SUMMARY:Until the End
DESCRIPTION:Until the End by Juno Rushdan
URL:https://romancejunkies.com/event/until-the-end/
END:VEVENT
BEGIN:VEVENT
DTSTART;VALUE=DATE:20200529
DTEND;VALUE=DATE:20200530
DTSTAMP:20260423T172426
CREATED:20200331T225719Z
LAST-MODIFIED:20200513T071632Z
UID:316863-1590710400-1590796799@romancejunkies.com
SUMMARY:Anne Gracie
DESCRIPTION:Marry in Scarlett Excerpt
URL:https://romancejunkies.com/event/anne-gracie/
END:VEVENT
END:VCALENDAR