BEGIN:VCALENDAR
VERSION:2.0
PRODID:-//Romance Junkies - ECPv6.0.12//NONSGML v1.0//EN
CALSCALE:GREGORIAN
METHOD:PUBLISH
X-WR-CALNAME:Romance Junkies
X-ORIGINAL-URL:https://romancejunkies.com
X-WR-CALDESC:Events for Romance Junkies
REFRESH-INTERVAL;VALUE=DURATION:PT1H
X-Robots-Tag:noindex
X-PUBLISHED-TTL:PT1H
BEGIN:VTIMEZONE
TZID:America/Denver
BEGIN:DAYLIGHT
TZOFFSETFROM:-0700
TZOFFSETTO:-0600
TZNAME:MDT
DTSTART:20200308T090000
END:DAYLIGHT
BEGIN:STANDARD
TZOFFSETFROM:-0600
TZOFFSETTO:-0700
TZNAME:MST
DTSTART:20201101T080000
END:STANDARD
END:VTIMEZONE
BEGIN:VEVENT
DTSTART;VALUE=DATE:20201107
DTEND;VALUE=DATE:20201108
DTSTAMP:20260423T092141
CREATED:20201102T203834Z
LAST-MODIFIED:20201106T191946Z
UID:356702-1604707200-1604793599@romancejunkies.com
SUMMARY:Dawn Endeavor Series
DESCRIPTION:
URL:https://romancejunkies.com/event/dawn-endeavor-series/
END:VEVENT
BEGIN:VEVENT
DTSTART;VALUE=DATE:20201119
DTEND;VALUE=DATE:20201120
DTSTAMP:20260423T092141
CREATED:20201102T203811Z
LAST-MODIFIED:20201102T203811Z
UID:356698-1605744000-1605830399@romancejunkies.com
SUMMARY:Dawn Brower
DESCRIPTION:
URL:https://romancejunkies.com/event/dawn-brower/
END:VEVENT
BEGIN:VEVENT
DTSTART;VALUE=DATE:20201125
DTEND;VALUE=DATE:20201126
DTSTAMP:20260423T092141
CREATED:20201125T195909Z
LAST-MODIFIED:20201125T195909Z
UID:360094-1606262400-1606348799@romancejunkies.com
SUMMARY:New Review
DESCRIPTION:
URL:https://romancejunkies.com/event/new-review-3/
END:VEVENT
BEGIN:VEVENT
DTSTART;VALUE=DATE:20201126
DTEND;VALUE=DATE:20201127
DTSTAMP:20260423T092141
CREATED:20201102T203911Z
LAST-MODIFIED:20201102T203911Z
UID:356706-1606348800-1606435199@romancejunkies.com
SUMMARY:Happy Thanksgiving!
DESCRIPTION:
URL:https://romancejunkies.com/event/happy-thanksgiving-2/
END:VEVENT
END:VCALENDAR