BEGIN:VCALENDAR
VERSION:2.0
PRODID:-//Romance Junkies - ECPv6.0.12//NONSGML v1.0//EN
CALSCALE:GREGORIAN
METHOD:PUBLISH
X-WR-CALNAME:Romance Junkies
X-ORIGINAL-URL:https://romancejunkies.com
X-WR-CALDESC:Events for Romance Junkies
REFRESH-INTERVAL;VALUE=DURATION:PT1H
X-Robots-Tag:noindex
X-PUBLISHED-TTL:PT1H
BEGIN:VTIMEZONE
TZID:America/Denver
BEGIN:DAYLIGHT
TZOFFSETFROM:-0700
TZOFFSETTO:-0600
TZNAME:MDT
DTSTART:20200308T090000
END:DAYLIGHT
BEGIN:STANDARD
TZOFFSETFROM:-0600
TZOFFSETTO:-0700
TZNAME:MST
DTSTART:20201101T080000
END:STANDARD
END:VTIMEZONE
BEGIN:VEVENT
DTSTART;VALUE=DATE:20201209
DTEND;VALUE=DATE:20201210
DTSTAMP:20260423T080358
CREATED:20201117T065038Z
LAST-MODIFIED:20201117T065038Z
UID:358804-1607472000-1607558399@romancejunkies.com
SUMMARY:Nancy Lee Badger
DESCRIPTION:The Earl’s Treasure
URL:https://romancejunkies.com/event/nancy-lee-badger-6/
END:VEVENT
BEGIN:VEVENT
DTSTART;VALUE=DATE:20201215
DTEND;VALUE=DATE:20201216
DTSTAMP:20260423T080358
CREATED:20201125T200332Z
LAST-MODIFIED:20201125T200701Z
UID:360099-1607990400-1608076799@romancejunkies.com
SUMMARY:Hannah Murray
DESCRIPTION:
URL:https://romancejunkies.com/event/hannah-murray/
END:VEVENT
BEGIN:VEVENT
DTSTART;VALUE=DATE:20201222
DTEND;VALUE=DATE:20201223
DTSTAMP:20260423T080358
CREATED:20201112T235124Z
LAST-MODIFIED:20201112T235511Z
UID:358285-1608595200-1608681599@romancejunkies.com
SUMMARY:Desiree Holt
DESCRIPTION:
URL:https://romancejunkies.com/event/desiree-holt-4/
END:VEVENT
BEGIN:VEVENT
DTSTART;VALUE=DATE:20201225
DTEND;VALUE=DATE:20201226
DTSTAMP:20260423T080358
CREATED:20201225T070145Z
LAST-MODIFIED:20201222T011404Z
UID:369624-1608854400-1608940799@romancejunkies.com
SUMMARY:Merry Christmas!
DESCRIPTION:
URL:https://romancejunkies.com/event/merry-christmas-3/
END:VEVENT
BEGIN:VEVENT
DTSTART;VALUE=DATE:20201228
DTEND;VALUE=DATE:20201229
DTSTAMP:20260423T080358
CREATED:20201112T233912Z
LAST-MODIFIED:20201112T233912Z
UID:358275-1609113600-1609199999@romancejunkies.com
SUMMARY:The Ultimate Betrayal
DESCRIPTION:Kat Martin
URL:https://romancejunkies.com/event/the-ultimate-betrayal/
END:VEVENT
BEGIN:VEVENT
DTSTART;VALUE=DATE:20201230
DTEND;VALUE=DATE:20201231
DTSTAMP:20260423T080358
CREATED:20201230T221930Z
LAST-MODIFIED:20201230T221930Z
UID:372720-1609286400-1609372799@romancejunkies.com
SUMMARY:Any Given Snow Day Sale
DESCRIPTION:
URL:https://romancejunkies.com/event/any-given-snow-day-sale/
END:VEVENT
END:VCALENDAR