BEGIN:VCALENDAR
VERSION:2.0
PRODID:-//Romance Junkies - ECPv6.0.12//NONSGML v1.0//EN
CALSCALE:GREGORIAN
METHOD:PUBLISH
X-WR-CALNAME:Romance Junkies
X-ORIGINAL-URL:https://romancejunkies.com
X-WR-CALDESC:Events for Romance Junkies
REFRESH-INTERVAL;VALUE=DURATION:PT1H
X-Robots-Tag:noindex
X-PUBLISHED-TTL:PT1H
BEGIN:VTIMEZONE
TZID:America/Denver
BEGIN:DAYLIGHT
TZOFFSETFROM:-0700
TZOFFSETTO:-0600
TZNAME:MDT
DTSTART:20210314T090000
END:DAYLIGHT
BEGIN:STANDARD
TZOFFSETFROM:-0600
TZOFFSETTO:-0700
TZNAME:MST
DTSTART:20211107T080000
END:STANDARD
END:VTIMEZONE
BEGIN:VEVENT
DTSTART;VALUE=DATE:20210302
DTEND;VALUE=DATE:20210303
DTSTAMP:20260423T024546
CREATED:20201209T200436Z
LAST-MODIFIED:20201209T200458Z
UID:364325-1614643200-1614729599@romancejunkies.com
SUMMARY:An Unexpected Peril
DESCRIPTION:AN UNEXPECTED PERIL by Deanna Raybourn
URL:https://romancejunkies.com/event/an-unexpected-peril/
END:VEVENT
BEGIN:VEVENT
DTSTART;VALUE=DATE:20210303
DTEND;VALUE=DATE:20210304
DTSTAMP:20260423T024546
CREATED:20210303T074519Z
LAST-MODIFIED:20210303T074519Z
UID:402660-1614729600-1614815999@romancejunkies.com
SUMMARY:Hailey Turner
DESCRIPTION:
URL:https://romancejunkies.com/event/hailey-turner-4/
END:VEVENT
BEGIN:VEVENT
DTSTART;VALUE=DATE:20210305
DTEND;VALUE=DATE:20210306
DTSTAMP:20260423T024546
CREATED:20210128T205509Z
LAST-MODIFIED:20210128T205509Z
UID:388351-1614902400-1614988799@romancejunkies.com
SUMMARY:Kelli A. Wilkins
DESCRIPTION:
URL:https://romancejunkies.com/event/kelli-a-wilkins-3/
END:VEVENT
BEGIN:VEVENT
DTSTART;VALUE=DATE:20210316
DTEND;VALUE=DATE:20210317
DTSTAMP:20260423T024546
CREATED:20210127T035940Z
LAST-MODIFIED:20210127T040117Z
UID:387813-1615852800-1615939199@romancejunkies.com
SUMMARY:Sara Desai
DESCRIPTION:The Dating Plan by Sara Desai
URL:https://romancejunkies.com/event/sara-desai/
END:VEVENT
BEGIN:VEVENT
DTSTART;VALUE=DATE:20210319
DTEND;VALUE=DATE:20210320
DTSTAMP:20260423T024546
CREATED:20210128T205540Z
LAST-MODIFIED:20210128T205540Z
UID:388356-1616112000-1616198399@romancejunkies.com
SUMMARY:Kelli A. Wilkins
DESCRIPTION:
URL:https://romancejunkies.com/event/kelli-a-wilkins-4/
END:VEVENT
END:VCALENDAR