BEGIN:VCALENDAR
VERSION:2.0
PRODID:-//Romance Junkies - ECPv6.0.12//NONSGML v1.0//EN
CALSCALE:GREGORIAN
METHOD:PUBLISH
X-WR-CALNAME:Romance Junkies
X-ORIGINAL-URL:https://romancejunkies.com
X-WR-CALDESC:Events for Romance Junkies
REFRESH-INTERVAL;VALUE=DURATION:PT1H
X-Robots-Tag:noindex
X-PUBLISHED-TTL:PT1H
BEGIN:VTIMEZONE
TZID:America/Denver
BEGIN:DAYLIGHT
TZOFFSETFROM:-0700
TZOFFSETTO:-0600
TZNAME:MDT
DTSTART:20210314T090000
END:DAYLIGHT
BEGIN:STANDARD
TZOFFSETFROM:-0600
TZOFFSETTO:-0700
TZNAME:MST
DTSTART:20211107T080000
END:STANDARD
END:VTIMEZONE
BEGIN:VEVENT
DTSTART;VALUE=DATE:20210401
DTEND;VALUE=DATE:20210402
DTSTAMP:20260423T051209
CREATED:20210301T204222Z
LAST-MODIFIED:20210301T204222Z
UID:402034-1617235200-1617321599@romancejunkies.com
SUMMARY:Kathleen Cherry
DESCRIPTION:
URL:https://romancejunkies.com/event/kathleen-cherry-2/
END:VEVENT
BEGIN:VEVENT
DTSTART;VALUE=DATE:20210411
DTEND;VALUE=DATE:20210412
DTSTAMP:20260423T051209
CREATED:20201222T011038Z
LAST-MODIFIED:20201222T011038Z
UID:369607-1618099200-1618185599@romancejunkies.com
SUMMARY:Desiree Holt
DESCRIPTION:
URL:https://romancejunkies.com/event/desiree-holt-5/
END:VEVENT
BEGIN:VEVENT
DTSTART;VALUE=DATE:20210413
DTEND;VALUE=DATE:20210414
DTSTAMP:20260423T051209
CREATED:20210323T213936Z
LAST-MODIFIED:20210323T213936Z
UID:411343-1618272000-1618358399@romancejunkies.com
SUMMARY:Maggie Tideswell
DESCRIPTION:Interview With A Seducer: A Bewildering Love Story
URL:https://romancejunkies.com/event/maggie-tideswell/
END:VEVENT
BEGIN:VEVENT
DTSTART;VALUE=DATE:20210415
DTEND;VALUE=DATE:20210416
DTSTAMP:20260423T051209
CREATED:20210128T205609Z
LAST-MODIFIED:20210128T205609Z
UID:388360-1618444800-1618531199@romancejunkies.com
SUMMARY:Kelli A. Wilkins
DESCRIPTION:
URL:https://romancejunkies.com/event/kelli-a-wilkins-5/
END:VEVENT
BEGIN:VEVENT
DTSTART;VALUE=DATE:20210420
DTEND;VALUE=DATE:20210421
DTSTAMP:20260423T051209
CREATED:20210217T032456Z
LAST-MODIFIED:20210217T032456Z
UID:396506-1618876800-1618963199@romancejunkies.com
SUMMARY:Desiree Holt and Liz Crowe
DESCRIPTION:Numbers Game\, a hot second chances romance
URL:https://romancejunkies.com/event/desiree-holt-and-liz-crowe/
END:VEVENT
BEGIN:VEVENT
DTSTART;VALUE=DATE:20210424
DTEND;VALUE=DATE:20210425
DTSTAMP:20260423T051209
CREATED:20210423T040031Z
LAST-MODIFIED:20210423T040031Z
UID:419620-1619222400-1619308799@romancejunkies.com
SUMMARY:Working Out is FREE
DESCRIPTION:Working Out by Marie Harte is FREE
URL:https://romancejunkies.com/event/working-out-is-free/
END:VEVENT
BEGIN:VEVENT
DTSTART;VALUE=DATE:20210428
DTEND;VALUE=DATE:20210429
DTSTAMP:20260423T051209
CREATED:20210128T205642Z
LAST-MODIFIED:20210128T210558Z
UID:388369-1619568000-1619654399@romancejunkies.com
SUMMARY:Kelli A. Wilkins
DESCRIPTION:
URL:https://romancejunkies.com/event/kelli-a-wilkins-6/
END:VEVENT
END:VCALENDAR